BEGIN:VCALENDAR
VERSION:2.0
PRODID:-//My Community Diary//iCal Event//EN
CALSCALE:GREGORIAN
METHOD:PUBLISH
BEGIN:VEVENT
UID:d95ac789-639d-4082-be15-5a0d5b19cad3
DTSTAMP:20260421T222643Z
DTSTART;TZID=E. Australia Standard Time:20190627T183000
DTEND;TZID=E. Australia Standard Time:20190627T203000
SUMMARY:Beginer Buhurt
DESCRIPTION:Tuesday night is fundamentals of Buhurt (Medieval Combat).\n\nIf you want to boost endurance and general fitness join us for an hour of intense Physical Training.\n\nThe soft kit combo drills\, and basic grappling.&nbsp\;&nbsp\;\n\n6:00pm for a 6:30pm start.\n\nThings to Bring\n- Water\n- Towel and boxing mits&nbsp\;(Optional)\n\nFirst Session Free\n\nLocated behind Mouse Proof Brewery on Brook Street\n
LOCATION:Tyr's Warriors Inc.\, 57 Brook Street\, North Toowoomba QLD 4350\, QLD\, 4350
RRULE:FREQ=WEEKLY;INTERVAL=1;BYDAY=TU
END:VEVENT
END:VCALENDAR
