BEGIN:VCALENDAR
VERSION:2.0
PRODID:-//My Community Diary//iCal Event//EN
CALSCALE:GREGORIAN
METHOD:PUBLISH
BEGIN:VEVENT
UID:72ba6573-689a-4606-a19d-669e4b3084fd
DTSTAMP:20260421T222300Z
DTSTART;TZID=E. Australia Standard Time:20250128T160000
DTEND;TZID=E. Australia Standard Time:20250128T180000
SUMMARY:ONEROOF
DESCRIPTION:The ONEROOF project encompasses Community Dinners priced at $2.00 per meal\, Hot showers\, Orange Sky Laundry \, Nurse outreach service\, Homeless and Health Outreach Team (Mental Health)Centrelink on Tuesdays 1pm - 3 pm. St. Vincents Homeless Outreach 11 am - 2 pm. Housing and other services referrals.&nbsp\; Haircuts every 6 weeks.&nbsp\;\n\n&nbsp\;\n\n&nbsp\;\n
LOCATION:Maroochy Neighbourhood Centre Inc\, 2 Fifth Avenue Maroochydore QLD 4558\, QLD\, 4558
RRULE:FREQ=WEEKLY;INTERVAL=1;BYDAY=TU,TH
END:VEVENT
END:VCALENDAR
