BEGIN:VCALENDAR
VERSION:2.0
PRODID:-//My Community Diary//iCal Event//EN
CALSCALE:GREGORIAN
METHOD:PUBLISH
BEGIN:VEVENT
UID:bf37f175-235d-4bfd-8f1a-7502c3279e3c
DTSTAMP:20260421T222217Z
DTSTART;TZID=AUS Eastern Standard Time:20250118T100000
DTEND;TZID=AUS Eastern Standard Time:20250118T180000
SUMMARY:Scrapbooking
DESCRIPTION:A friendly group\, that meets the third Saturday of each month.&nbsp\; You will have the opportunity to learn and share new ideas.\n\nBYO materials and projects.\n
LOCATION:Mordialloc Neighbourhood House\, Mordialloc VIC 3195\, VIC\, 3195
RRULE:FREQ=MONTHLY;INTERVAL=1;BYDAY=3MO
END:VEVENT
END:VCALENDAR
