BEGIN:VCALENDAR
VERSION:2.0
PRODID:-//My Community Diary//iCal Event//EN
CALSCALE:GREGORIAN
METHOD:PUBLISH
BEGIN:VEVENT
UID:b3bea827-0fab-44f7-9805-58bac930f020
DTSTAMP:20260424T155835Z
DTSTART;VALUE=DATE:20190802
DTEND;VALUE=DATE:20190803
SUMMARY:Free Hearing Health Checks
DESCRIPTION:Hearing assessment\n\nThe hearing assessment will take approximately 10 minutes and is the first step to determining whether you may have a hearing loss.\n\nFollowing your test\, your hearing specialist will discuss your results with you and will answer any questions that you may have.\n\nFREE fit\n\nIf your hearing assessment shows you have a hearing loss\, and you decide to try out our hearing aids\, we will find a hearing solution to fit your needs.\n\nYou can then try the hearing device on to get your first impression and give feedback to make sure this is the best solution for you.\n
LOCATION:bloom hearing specialists Ipswich\, Shop 5\, 64-68 Hunter Street Brassall QLD 4305\, QLD\, 4305
RRULE:FREQ=DAILY;INTERVAL=1
END:VEVENT
END:VCALENDAR
