BEGIN:VCALENDAR
VERSION:2.0
PRODID:-//My Community Diary//iCal Event//EN
CALSCALE:GREGORIAN
METHOD:PUBLISH
BEGIN:VEVENT
UID:64129830-a8cc-402f-aeb1-bac5f72242d1
DTSTAMP:20260424T154959Z
DTSTART;TZID=E. Australia Standard Time:20190708T093000
DTEND;TZID=E. Australia Standard Time:20190708T200000
SUMMARY:Winter Creative arts program
DESCRIPTION:Winter Creative is a program of arts workshops for adults and young artists held from 8 to 17 July. It includes two Paint Palette and Vino Parties being held to launch our newest artwork Oriental Still Life.\n\nFull details of all workshops are on the Holiday Workshops page of our website.\n
LOCATION:Arts Alive Creative Arts School\, 5 Jacaranda Street\, East Ipswich QLD 4305\, QLD\, 4305
RRULE:FREQ=DAILY;INTERVAL=1
END:VEVENT
END:VCALENDAR
