BEGIN:VCALENDAR
VERSION:2.0
PRODID:-//My Community Diary//iCal Event//EN
CALSCALE:GREGORIAN
METHOD:PUBLISH
BEGIN:VEVENT
UID:ced1ab43-8cea-47e1-afd0-9c5f6971fb7f
DTSTAMP:20260422T000604Z
DTSTART;VALUE=DATE:20260424
DTEND;VALUE=DATE:20260425
SUMMARY:Pacific Palms Community Market
DESCRIPTION:Over 80 stalls to find that special thing you didn't know you needed until you saw it!\n\nThe Pacific Palms Community Centre comes alive with vibrant colours\, textures and a really great vibe…come and experience it for yourself!\n\nThe Pacific Palms Market showcases quality handmade\, homegrown and home-baked products from around the Barrington Coast region and beyond.\n\nSample some of our fabulous food from around the globe\, including organic vegetarian curries\, Asian noodles and Aussie-style barbecues! See the colourful stalls including eco and fair-trade products\, jewellery\, art\, crafts\, clothes\, plants\, fruit\, vegetables and beautiful body products. A jumping castle and pony rides will keep the children entertained whilst you can enjoy an organic coffee and cake on the alfresco deck.
LOCATION:\, pacific palms\, NSW 2428\, NSW\, 2428
RRULE:FREQ=DAILY;INTERVAL=1;UNTIL=20260426T000000Z
END:VEVENT
END:VCALENDAR
