BEGIN:VCALENDAR
VERSION:2.0
PRODID:-//My Community Diary//iCal Event//EN
CALSCALE:GREGORIAN
METHOD:PUBLISH
BEGIN:VEVENT
UID:eec9e4ad-e560-4f88-b29c-96ad52c0a370
DTSTAMP:20260421T225619Z
DTSTART;VALUE=DATE:20270404
DTEND;VALUE=DATE:20270405
SUMMARY:Newcastle Writers Festival
DESCRIPTION:Newcastle Writers Festival is a dynamic annual event that celebrates books and brings together readers and much-loved writers. The three-day program features 180 emerging and established writers across 120 free and ticketed events. \n\nThe program\, which centres on the Civic precinct and is close to public transport links\, includes panel discussions\, readings\, book launches\, performances\, writing workshops and one-on-one interviews. \n\nPrevious guests have included Trent Dalton\, Clementine Ford\, Helen Garner\, Stan Grant\, and Michael Robotham. Readers have the opportunity to speak to their favourite writers and the hub of the festival is the pop-up bookshop where guest writers sign their books.\n\nEntry Cost\nAll tickets $15  - There are also free events and bookings are required.
LOCATION:\, Newcastle\, NSW 2300\, NSW\, 2300
RRULE:FREQ=DAILY;INTERVAL=1;UNTIL=20270406T000000Z
END:VEVENT
END:VCALENDAR
