BEGIN:VCALENDAR
VERSION:2.0
PRODID:-//My Community Diary//iCal Event//EN
CALSCALE:GREGORIAN
METHOD:PUBLISH
BEGIN:VEVENT
UID:9bc85bee-d39b-47dd-b5ef-b3405d3a5065
DTSTAMP:20260422T013945Z
DTSTART;VALUE=DATE:20260425
DTEND;VALUE=DATE:20260426
SUMMARY:Kingscliff Markets
DESCRIPTION:Kingscliff Markets are held in Jack Bayliss Park on Marine Parade Kingscliff the second and fourth Saturday of every month from 8am to 1pm\, with the picturesque backdrop of Kingscliff Beach. There is plentiful parking with public toilets.\n\nWith a beautiful beachfront location and an array of local produce\, Kingscliff Markets in Northern NSW Australia are truly enjoyable for all ages. Spend a relaxing Saturday morning strolling through the vast array of gourmet food\, produce\, craft\, artwork\, fashion\, jewellery\, flowers\, gifts and food stalls.\n\nWhy not pick up some fresh fruit and vegetables and have an afternoon feast or swim after browsing through the stalls?
LOCATION:\, Marine Parade\, Kingscliff\, NSW 2487\, NSW\, 2487
RRULE:FREQ=DAILY;INTERVAL=1;UNTIL=20260427T000000Z
END:VEVENT
END:VCALENDAR
