BEGIN:VCALENDAR
VERSION:2.0
PRODID:-//My Community Diary//iCal Event//EN
CALSCALE:GREGORIAN
METHOD:PUBLISH
BEGIN:VEVENT
UID:602c1591-2c86-47ce-a770-97d33e081ef7
DTSTAMP:20260422T015648Z
DTSTART;VALUE=DATE:20260515
DTEND;VALUE=DATE:20260516
SUMMARY:Gravel n Granite - Tenterfield
DESCRIPTION:Ready for an unforgettable gravel adventure? Set in the stunning region of Tenterfield\, Gravel n Granite takes you on a journey through rugged and spectacular landscapes\, while testing your endurance\, skill and spirit! \n\nGravel n Granite offers something for everyone. Whether you're a seasoned gravel rider\, a weekend enthusiast or an adaptive rider\, you'll experience epic views\, rugged roads and a sense of camaraderie like no other. \n\nChoose your challenge from a range of course options: The Range Rumble - long course (91 kilometres)\, The Wellington Rocks - medium course (66 kilometres)\, Basket Swamp Bash -short and adaptive course (38 kilometres)\, Mt Mackenzie Frenzy (24 kilometres) and Curry's Gap Dash – family-friendly course (11 kilometres)\n\nGravel n Granite welcomes gravel bikes\, mountain bikes\, e-bikes and adaptive riders on hand cycles. The course is designed to be accessible and carefully crafted to offer the perfect mix of difficulty and beauty\, with options for all skill levels.\n\nThe fun doesn't stop when you cross the finish line! Join your fellow riders at the Race Village for the post-race party. 2026 GnG will be held in May\, to make the most of the cooler weather and beautiful autumn landscapes.\n\nEntry Cost\nAll tickets $20  - The Range Rumble 91km - $195\nThe Wellington Rocks 66km - $175\nBasket Swamp Bash 38km - $105\nMt Mackenzie Frenzy 24km - $30\nCurry's Gap Dash over 16 - $20\nCurry's Gap Dash under 16 - free
LOCATION:\, 73 Manners Street\, Tenterfield\, NSW 2372\, NSW\, 2372
RRULE:FREQ=DAILY;INTERVAL=1;UNTIL=20260517T000000Z
END:VEVENT
END:VCALENDAR
