BEGIN:VCALENDAR
VERSION:2.0
PRODID:-//My Community Diary//iCal Event//EN
CALSCALE:GREGORIAN
METHOD:PUBLISH
BEGIN:VEVENT
UID:bf0ea3af-37b3-4805-b97c-bfea6a2a2adf
DTSTAMP:20260422T020158Z
DTSTART;VALUE=DATE:20270421
DTEND;VALUE=DATE:20270422
SUMMARY:Full Moon Guided Kayak Paddle at Ganguddy-Dunns Swamp
DESCRIPTION:Experience a unique kayaking adventure with the Full Moon Tour.  During this two-hour paddle through the serene and captivating waters of Ganguddy - Dunns Swamp under the moonlight\, you'll witness the landscape transform into a new entity. Observe the night wildlife as you glide on the Cudgegong River over the moonlit water. The tour guides are skilled nighttime kayakers\, and they will provide you with all the necessary safety equipment\, briefings\, and special night kayaking gear to ensure your safety and comfort.\n\nYou may spot Rakali and even local Platypus during this magical tour. The tour departs at sunset on specific seasonal dates\, so please check the website or contact Cindy or John for more information. It is essential to keep in mind that the departure and return times of the tour vary. Also\, if you are staying elsewhere\, consider the travel distance and nighttime driving required to your accommodation.\n\nEntry Cost\nAll tickets $115  - $115 per person - all ages.\nFull Moon guided kayak tour is recommended for paddlers 12years and over.
LOCATION:\, Dunns Swamp Road\, Kelgoola\, NSW 2849\, NSW\, 2849
RRULE:FREQ=DAILY;INTERVAL=1;UNTIL=20270423T000000Z
END:VEVENT
END:VCALENDAR
