BEGIN:VCALENDAR
VERSION:2.0
PRODID:-//My Community Diary//iCal Event//EN
CALSCALE:GREGORIAN
METHOD:PUBLISH
BEGIN:VEVENT
UID:210cab38-4103-411a-b394-3b76de4d83c3
DTSTAMP:20260424T165202Z
DTSTART:20240516T090000Z
DTEND:20240516T120000Z
SUMMARY:Ultra-Trail Australia by UTMB
DESCRIPTION:Ultra-Trail Australia by UTMB is an adventure packed four-day trail running event held in the World Heritage listed Blue Mountains National Park\, NSW.\n\nOne of Australia’s most challenging\, stunning and prestigious trail running events. Runners can choose to tackle the 100 kilometre\, 50 kilometre\, 22 kilometre distance\, or the most recent addition to the UTA family\, the 11 kilometre.\n\nKnown as the biggest trail running party in Australia with 7\,000+ runners of all abilities making the trek to Katoomba each year to take part in one of the four running events. \n\nFriends and families enjoy the action-packed weekend of trail running activities as much as the runners with the opportunity to learn all about trails\, gear\, nutrition\, training\, race strategy and more\, whilst immersing themselves in the fun\, friendly and welcoming trail running community to form new friendships with runners\, coaches and brands.
LOCATION:\, Violet Street and Cliff Drive\, Katoomba\, NSW 2780\, NSW\, 2780
RRULE:FREQ=DAILY;INTERVAL=1;UNTIL=20240520T000000Z
END:VEVENT
END:VCALENDAR
