BEGIN:VCALENDAR
VERSION:2.0
PRODID:-//My Community Diary//iCal Event//EN
CALSCALE:GREGORIAN
METHOD:PUBLISH
BEGIN:VEVENT
UID:24dc147a-5987-4e90-9ab1-9c92de78ce6e
DTSTAMP:20260421T210324Z
DTSTART;VALUE=DATE:20260620
DTEND;VALUE=DATE:20260621
SUMMARY:Warners Bay Markets
DESCRIPTION:Warners Bay Markets are held on the third Saturday of every month.\n\nWith a fabulous array of stallholders\, selling everything from homewares\, fashion\, pet supplies\, plants and street food.\n\nTake in the scenic backdrop of Lake Macquarie whilst you browse.\n\nPet and child friendly.
LOCATION:\, The Esplanade\, Warners Bay\, NSW 2282\, NSW\, 2282
RRULE:FREQ=DAILY;INTERVAL=1;UNTIL=20260622T000000Z
END:VEVENT
END:VCALENDAR
