BEGIN:VCALENDAR
VERSION:2.0
PRODID:-//My Community Diary//iCal Event//EN
CALSCALE:GREGORIAN
METHOD:PUBLISH
BEGIN:VEVENT
UID:d5c2e1b7-b398-4a30-acf6-2504bdb63270
DTSTAMP:20260422T015806Z
DTSTART;VALUE=DATE:20260620
DTEND;VALUE=DATE:20260621
SUMMARY:Saturday Skywatch
DESCRIPTION:The Rock Regional Observatory hosts a free Saturday Skywatch event every Saturday\, open to all ages. \n\nParticipants can explore the night sky through telescopes\, learning about stars\, planets\, and constellations.
LOCATION:\, 3778 Lockhart-the Rock Road\, The Rock\, NSW 2655\, NSW\, 2655
RRULE:FREQ=DAILY;INTERVAL=1;UNTIL=20260622T000000Z
END:VEVENT
END:VCALENDAR
