BEGIN:VCALENDAR
VERSION:2.0
PRODID:-//My Community Diary//iCal Event//EN
CALSCALE:GREGORIAN
METHOD:PUBLISH
BEGIN:VEVENT
UID:bb9a8064-2072-485c-af29-4eb45a514c8d
DTSTAMP:20260422T013945Z
DTSTART;VALUE=DATE:20260502
DTEND;VALUE=DATE:20260503
SUMMARY:Port Stephens Multisport Festival
DESCRIPTION:The spectacular coastlines\, beaches and national parks of Port Stephens are set to play host to a weekend of off-road action.\n\nLocated on the NSW Mid North Coast\, and just 2.5 hours' drive from Sydney\, Port Stephens offers a winning combination of spectacular beaches\, scenic national parklands and rugged rocky coastlines providing the perfect backdrop for a weekend of off-road action at the Port Stephens MultiSport Festival.\n\nThis weekend of not-to-be-missed action will host the TreX Cross Triathlon Series and Trail Run Australia with events for all comers from the littlest Dirt Kids right through to the hardcore off-road Dirt Masters.\n\nSo\, whether you're a group of mates\, a club\, a family\, a weekend warrior or someone who just loves being in the outdoors in spectacular destinations\, it's time to discover your next adventure at the Port Stephens MultiSport Festival.
LOCATION:\, 3 Marine Drive\, Fingal Bay\, NSW 2315\, NSW\, 2315
RRULE:FREQ=DAILY;INTERVAL=1;UNTIL=20260504T000000Z
END:VEVENT
END:VCALENDAR
