BEGIN:VCALENDAR
VERSION:2.0
PRODID:-//My Community Diary//iCal Event//EN
CALSCALE:GREGORIAN
METHOD:PUBLISH
BEGIN:VEVENT
UID:022cdeca-83d3-49bf-ad50-1e11fd3f06ab
DTSTAMP:20260422T000554Z
DTSTART;VALUE=DATE:20260425
DTEND;VALUE=DATE:20260426
SUMMARY:Old Bar Markets
DESCRIPTION:Old Bar Markets are a popular market held in the village of Old Bar and has a wide variety of unique market stalls. Old Bar Markets offer a laid back atmosphere\, fresh produce\, bric-a-brac\, plants\, jewelry\, homemade products\, home wares and lots more.
LOCATION:\, Ungala Road Old Bar Park\, Old Bar\, NSW 2430\, NSW\, 2430
RRULE:FREQ=DAILY;INTERVAL=1;UNTIL=20260427T000000Z
END:VEVENT
END:VCALENDAR
