BEGIN:VCALENDAR
VERSION:2.0
PRODID:-//My Community Diary//iCal Event//EN
CALSCALE:GREGORIAN
METHOD:PUBLISH
BEGIN:VEVENT
UID:21441aa5-0dd5-46d4-9b12-1877fc1d2603
DTSTAMP:20260423T102901Z
DTSTART;VALUE=DATE:20260423
DTEND;VALUE=DATE:20260424
SUMMARY:Old Bar Markets
DESCRIPTION:Old Bar Markets are a popular market held in the village of Old Bar and has a wide variety of unique market stalls. Old Bar Markets offer a laid back atmosphere\, fresh produce\, bric-a-brac\, plants\, jewelry\, homemade products\, home wares and lots more.
LOCATION:\, Ungala Road Old Bar Park\, Old Bar\, NSW 2430\, NSW\, 2430
RRULE:FREQ=DAILY;INTERVAL=1;UNTIL=20260425T000000Z
END:VEVENT
END:VCALENDAR
