BEGIN:VCALENDAR
VERSION:2.0
PRODID:-//My Community Diary//iCal Event//EN
CALSCALE:GREGORIAN
METHOD:PUBLISH
BEGIN:VEVENT
UID:bfdae048-1b91-413a-8049-73ea1419bd04
DTSTAMP:20260422T001616Z
DTSTART;VALUE=DATE:20260607
DTEND;VALUE=DATE:20260608
SUMMARY:Moree Markets
DESCRIPTION:Take a leisurely stroll through the monthly Moree Markets held each month. There will be something for\neveryone\, including\, but not limited to\, books\, plants\, clothes\, handmade goodies\, local produce\, tasty delights\, beverages\, and much more.
LOCATION:\, Moree\, NSW 2400\, NSW\, 2400
RRULE:FREQ=DAILY;INTERVAL=1;UNTIL=20260609T000000Z
END:VEVENT
END:VCALENDAR
