BEGIN:VCALENDAR
VERSION:2.0
PRODID:-//My Community Diary//iCal Event//EN
CALSCALE:GREGORIAN
METHOD:PUBLISH
BEGIN:VEVENT
UID:1349bce8-2eb1-4304-b10d-6b9055818ddf
DTSTAMP:20260422T021803Z
DTSTART;VALUE=DATE:20260527
DTEND;VALUE=DATE:20260528
SUMMARY:Kiama Farmers' Market
DESCRIPTION:Set against a stunning coastal backdrop\, the Kiama Farmers’ Market is a weekly must-visit. The market is started each week by the ringing of the bell - no market trading takes place until the bell has been rung.\n\nThis is a true farmers’ market\, dedicated to supporting local growers\, producers\, and makers. While you browse\, kids can play on the beach or in the park\, or you can relax on the grass with an afternoon snack or early dinner.\n\nEach week\, a wonderful selection of seasonal produce is sold fresh and direct to you from the local market gardens. Along with fruit and vegetables\, you can expect to find a variety of other produce\, such as seafood\, oysters\, local Wagyu beef\, honey\, eggs\, milk straight from the dairy\, gelato made from local milk\, cider\, wine\, mushrooms\, cakes\, and tarts\, preserves\, sourdough bread\, street food\, ready-made meals… and so much more!
LOCATION:\, Manning Street\, Kiama\, NSW 2533\, NSW\, 2533
RRULE:FREQ=DAILY;INTERVAL=1;UNTIL=20260529T000000Z
END:VEVENT
END:VCALENDAR
