BEGIN:VCALENDAR
VERSION:2.0
PRODID:-//My Community Diary//iCal Event//EN
CALSCALE:GREGORIAN
METHOD:PUBLISH
BEGIN:VEVENT
UID:a7328542-22d9-42e9-809a-855466d407c2
DTSTAMP:20260421T205351Z
DTSTART;VALUE=DATE:20260613
DTEND;VALUE=DATE:20260614
SUMMARY:Dark v Dark
DESCRIPTION:The Dark v Dark event by Modus Brewing is a bold and immersive craft beer experience celebrating the deep\, rich flavors of dark beers from Newcastle's thriving brewing scene. \n\nThis event brings together breweries and beer lovers for a night of indulgence\, featuring exclusive brews\, sensory experiences\, and a lively atmosphere.
LOCATION:\, 20 Merewether Street\, Merewether\, NSW 2291\, NSW\, 2291
END:VEVENT
END:VCALENDAR
