BEGIN:VCALENDAR
VERSION:2.0
PRODID:-//My Community Diary//iCal Event//EN
CALSCALE:GREGORIAN
METHOD:PUBLISH
BEGIN:VEVENT
UID:620d72e9-6770-4e04-8855-e34876b1f8c2
DTSTAMP:20260424T173610Z
DTSTART;TZID=AUS Eastern Standard Time:20190608T083000
DTEND;TZID=AUS Eastern Standard Time:20190608T180000
SUMMARY:NNSW Football Boys State Championships 
DESCRIPTION:The Telstra SAP State Championships for Boys is a major event for young elite football players and coaching staff in Northern NSW.\n\nIt is the first significant opportunity for players from all across Northern NSW to test their playing skills against players of a similar calibre from all Zones in Northern NSW. Whilst there will always be winners and losers in tournament competitions\, this is part of the development of young players\, with the Technical Department of Northern NSW Football concerned on how the teams play and how the players respond to the overall result.\n
LOCATION:C.ex Coffs International Stadium\, Stadium Drive\, Coffs Harbour NSW 2450\, NSW\, 2450
RRULE:FREQ=DAILY;INTERVAL=1
END:VEVENT
END:VCALENDAR
