BEGIN:VCALENDAR
VERSION:2.0
PRODID:-//My Community Diary//iCal Event//EN
CALSCALE:GREGORIAN
METHOD:PUBLISH
BEGIN:VEVENT
UID:bb75c368-102e-4cb0-ae3c-ca5590cfc1bc
DTSTAMP:20260421T222106Z
DTSTART;VALUE=DATE:20260830
DTEND;VALUE=DATE:20260831
SUMMARY:Truffle Hunting at Truffle Valley
DESCRIPTION:Just one hour from Melbourne in the beautiful Yarra Valley\, discover Truffle Valley farm. \n\nCome truffle hunting and have a truly unique and interactive\, winter experience. Learn about truffles and their secret life\, before joining working dogs Tessa and Rita\, on an exciting truffle hunt.\n\nTruffle season only runs from mid-June to the end of August so don't miss out on this unforgettable opportunity. Please note that all sessions are booked for August 2025.\n\nSmell\, touch\, taste the 'black gold' as you are guided through the orchard by these eager truffle hunting dogs. Then visit the farm shop where you can buy your very own freshly harvested Black Winter Truffles.
LOCATION:\, 9 Carters Lane\, Seville\, VIC 3139\, VIC\, 3139
RRULE:FREQ=DAILY;INTERVAL=1;UNTIL=20260901T000000Z
END:VEVENT
END:VCALENDAR
