BEGIN:VCALENDAR
VERSION:2.0
PRODID:-//My Community Diary//iCal Event//EN
CALSCALE:GREGORIAN
METHOD:PUBLISH
BEGIN:VEVENT
UID:448369aa-8063-43d1-b184-36e185969153
DTSTAMP:20260422T005018Z
DTSTART;VALUE=DATE:20261120
DTEND;VALUE=DATE:20261121
SUMMARY:Charcoal & Scarlet - Sunset Spit Rotisserie at Balancing Heart Vineyard
DESCRIPTION:Every Friday Balancing Heart offers a special sunset spit rotisserie from 4pm along with fantastic live music\n\nThe charcoal & scarlet menu is a two-course set meal\, featuring a different roast meat every week. The usual delicious Balancing Heart pizza menu is also available\, so no need to restrict the table - everyone can enjoy their favourites! \n\nLimited roast servings are available\, so please book online if you don't want to miss out.\n\nMenu:\nStarter - Garlic focaccia bread\nMain - Roast on the spit (meat changes weekly)\nSides - choice of either:\nDuck fat potatoes + seasonal greens + pumpkin\nor\nSalad.\n\nPricing Per Person: \nAUD29 regular serve of roast\nAUD36 large serve of roast\nAUD15 child's serve.
LOCATION:\, 221 Old Wallangarra Road\, Wyberba\, QLD 4382\, QLD\, 4382
RRULE:FREQ=DAILY;INTERVAL=1;UNTIL=20261122T000000Z
END:VEVENT
END:VCALENDAR
