BEGIN:VCALENDAR
VERSION:2.0
PRODID:-//My Community Diary//iCal Event//EN
CALSCALE:GREGORIAN
METHOD:PUBLISH
BEGIN:VEVENT
UID:2f1a2836-45f3-4a04-bb5f-ac279c2cb31f
DTSTAMP:20260424T154836Z
DTSTART;TZID=E. Australia Standard Time:20190522T093000
DTEND;TZID=E. Australia Standard Time:20190522T100000
SUMMARY:Story Time 
DESCRIPTION:Story Time promotes early language and literacy development and is aimed at children aged two-and-a-half to five years.\n\nSharing stories\, singing and talking with your child is fun and good for brain development and social skills.\n\nAccess to free events is only one of the benefits of library membership.\n\nIf you are not already a library member\, please join at https://library.mackay.qld.gov.au/Montage/Join.aspx\n\nHead to www.mackay.qld.gov.au/whatson for information about more events and workshops.\n
LOCATION:Sarina Library\, 65 Broad Street\, Sarina QLD 4737\, QLD\, 4737
RRULE:FREQ=WEEKLY;INTERVAL=1;BYDAY=WE
END:VEVENT
END:VCALENDAR
