BEGIN:VCALENDAR
VERSION:2.0
PRODID:-//My Community Diary//iCal Event//EN
CALSCALE:GREGORIAN
METHOD:PUBLISH
BEGIN:VEVENT
UID:1d4cdce6-6306-4ed9-9c18-dfb4e1eb99f2
DTSTAMP:20260422T013535Z
DTSTART;VALUE=DATE:20260503
DTEND;VALUE=DATE:20260504
SUMMARY:Spirit Making Class
DESCRIPTION:Craft your signature spirit!\n\nIn their Spirit Making Class\, you will have the opportunity to craft your personalised unaged bottle of Rum\, Gin\, Brandy\, Vodka\, or Schnapps. With an extensive selection of botanicals and ingredients sourced from their apothecary\, you'll have all the tools you need to design a spirit that suits your taste perfectly.\n\nTheir Head Distiller will be your guide throughout the process. From selecting the ideal botanicals to operating your own distillation equipment\, you'll receive expert guidance every step of the way. This is an interactive class that allows you to roll up your sleeves and create your own unique spirit.\n\nAt the end of this extraordinary class\, you'll proudly take home a 500ml bottle of your very own handcrafted spirit. It's not just a bottle\; it's a testament to your creativity and newfound distillation skills. Display it on your home bar or share it as a special gift.\n\nComplimentary drink upon your arrival.\nGuided Distillery Tour and Tasting Experience featuring four samples.\nProfessional distillation guidance provided by our Head Distiller.\nExclusive access to their selection of botanicals from the apothecary.\nA 500ml bottle of your personally crafted spirit.\nA delightful grazing board to share.\n10 percent  discount on any liquor purchase made the same day.\n\nEntry Cost\nAll tickets $185 
LOCATION:\, 10 Macdonnell Road\, Tamborine Mountain\, QLD 4272\, QLD\, 4272
RRULE:FREQ=DAILY;INTERVAL=1;UNTIL=20260505T000000Z
END:VEVENT
END:VCALENDAR
