BEGIN:VCALENDAR
VERSION:2.0
PRODID:-//My Community Diary//iCal Event//EN
CALSCALE:GREGORIAN
METHOD:PUBLISH
BEGIN:VEVENT
UID:5b1ab916-a8ef-4d50-aee1-c6225344cc83
DTSTAMP:20260424T154835Z
DTSTART:20250601T050000Z
DTEND:20250601T170000Z
SUMMARY:Hungerford Field Day
DESCRIPTION:The Hungerford Field Day is an incredible event to support the RFDS. \n\nBoasting exhibitors of farming equipment\, services\, artists\, and live entertainment there's something here for everyone!\n\nThe Hungerford Community unites to host the Hungerford Field Day biannually to support the incredible work of the Royal Flying Doctor Service at the Ross Wallace Sports Ground\, Hungerford on the NSW/Qld Border.\n\nThis Field Day boasts an impressive array of exhibitors including farming equipment\, services\, talented artists and designers\, there's something for all ages!\n\nThe Hungerford Field Day has been held since 1981 raising funds for the Royal Flying Doctor Service through the incredible Auction. \n\nTo top off the event there's live entertainment to entertain you at night!
LOCATION:\, Hungerford\, QLD 4493\, QLD\, 4493
RRULE:FREQ=DAILY;INTERVAL=1;UNTIL=20250604T000000Z
END:VEVENT
END:VCALENDAR
