BEGIN:VCALENDAR
VERSION:2.0
PRODID:-//My Community Diary//iCal Event//EN
CALSCALE:GREGORIAN
METHOD:PUBLISH
BEGIN:VEVENT
UID:f47fcf4d-ed8a-4eda-8b6e-48ac7fb6f2b2
DTSTAMP:20260424T160522Z
DTSTART:20240426T000000Z
DTEND:20240426T235959Z
SUMMARY:Undara Outback Rock and Blues
DESCRIPTION:The Undara Outback Rock and Blues festival held at Discovery Resorts - Undara will feature high quality acts\, over the three days\, to make this a weekend guaranteed to suit fans of all genres. Artists are sort from local areas as well as interstate to give guests to North Queensland a weekend to remember! \n\nDiscovery Resorts - Undara can accommodate everyone with many different styles of accommodation. Roll out a Swag under the stars next to the fire or enjoy the Swags Tent Village with permanent tents or you may wish to stay in the turn of the century railway carriages that have been converted into multi award winning accommodation. If you would rather spoil yourself\, indulge in one of the fully air-conditioned Pioneers Huts that have spacious bathrooms and large decks.  This is an amazing weekend of mates & music in one of North Queensland's most unique locations!
LOCATION:\, Undara Road\, Mount Surprise\, QLD 4871\, QLD\, 4871
RRULE:FREQ=DAILY;INTERVAL=1;UNTIL=20240429T000000Z
END:VEVENT
END:VCALENDAR
