BEGIN:VCALENDAR
VERSION:2.0
PRODID:-//My Community Diary//iCal Event//EN
CALSCALE:GREGORIAN
METHOD:PUBLISH
BEGIN:VEVENT
UID:8e6e471e-d341-4a4a-b8fc-0f8d0b86e02a
DTSTAMP:20260422T000649Z
DTSTART;VALUE=DATE:20261212
DTEND;VALUE=DATE:20261213
SUMMARY:The Vaudeville Revue
DESCRIPTION:Step into the world of The Vaudeville Revue!\n\nFast becoming a must see for visitors to Melbourne\, The Vaudeville Revue is a captivating blend of cabaret\, sideshow stunts\, circus acts\, burlesque and comedy\, all rolled into one unforgettable show.  It is the perfect way to experience Melbourne's friendly and welcoming hospitality whilst witnessing some of Melbourne and Australia's best performers.\n\nLocated in a stunning 1850s building which was originally a ships chandler and sold supplies to the fleet\, it is also part of Melbourne's maritime history. Make sure to ask about the building's history when you visit. Tours are often taken after the show!\n\nEntry Cost\nAll tickets $39 
LOCATION:\, 522 Flinders Street\, Melbourne\, VIC 3000\, VIC\, 3000
RRULE:FREQ=DAILY;INTERVAL=1;UNTIL=20261214T000000Z
END:VEVENT
END:VCALENDAR
