BEGIN:VCALENDAR
VERSION:2.0
PRODID:-//My Community Diary//iCal Event//EN
CALSCALE:GREGORIAN
METHOD:PUBLISH
BEGIN:VEVENT
UID:0543e2fb-0cee-4d41-83b6-a2303ebc0bf9
DTSTAMP:20260424T154910Z
DTSTART:20230810T080000Z
DTEND:20230810T230000Z
SUMMARY:2024 Mount Isa Mines Rodeo
DESCRIPTION:The Mount Isa Mines Rodeo is where the romance of the Australian Outback meets the grit of a mining town\, east meets west and man meets beast. \n\nThis is the Southern Hemisphere's largest rodeo and Australia's richest prize pool\, attracting some 750 competitors from across Australia.\n\nCompetitors compete in the famous open-air\, red dirt arena over four days of non-stop rodeo action\, including live entertainment\, outback market traders and food stalls and live Rodeo Rock Concerts.\n\nTo keep up-to-date on the latest follow them on Facebook\, Instagram and visit the website.\n\nThe legend continues. Since 1959.\n\nEntry Cost\nAdult $0  - Please  refer to their website for the latest update on ticket prices released 12 weeks before each event.
LOCATION:\, George Street\, Mount Isa\, QLD 4825\, QLD\, 4825
RRULE:FREQ=DAILY;INTERVAL=1;UNTIL=20240812T000000Z
END:VEVENT
END:VCALENDAR
