BEGIN:VCALENDAR
VERSION:2.0
PRODID:-//My Community Diary//iCal Event//EN
CALSCALE:GREGORIAN
METHOD:PUBLISH
BEGIN:VEVENT
UID:6ef06cf0-2524-452f-b2ba-55fe39ab9ec8
DTSTAMP:20260422T020048Z
DTSTART;VALUE=DATE:20260523
DTEND;VALUE=DATE:20260524
SUMMARY:Rozelle Collectors Markets
DESCRIPTION:The Rozelle Collectors Market is one of Sydney's favourite outdoor second hand\, bric-a-brac and antique markets. Stallholders have been selling their pre-loved wares to an ever expanding audience in the grounds of the Rozelle Public School for over 20 years\, and the market community had developed a reputation as brilliant spot for a poke about\, catch up with friends\, and to bag some unique finds. \n\nThis convenient inner-west open air market operates year round and offers a beautiful outdoor setting alongside the historical buildings of the Rozelle Public School that was established in 1877.\n\nBrowse a huge range of pre-loved antiques\, collectibles\, fashion\, jewellery\, art and music\, all while being entertained by top notch local performers. And when you're in need of a break\, local artisinal providores and international food stalls offer a delicious range of great value food.
LOCATION:\, 663 Darling Street\, Rozelle\, NSW 2039\, NSW\, 2039
RRULE:FREQ=DAILY;INTERVAL=1;UNTIL=20260525T000000Z
END:VEVENT
END:VCALENDAR
