BEGIN:VCALENDAR
VERSION:2.0
PRODID:-//My Community Diary//iCal Event//EN
CALSCALE:GREGORIAN
METHOD:PUBLISH
BEGIN:VEVENT
UID:3ca36890-5fba-453b-9444-39079ba85760
DTSTAMP:20260424T160628Z
DTSTART;TZID=E. Australia Standard Time:20190504T073000
DTEND;TZID=E. Australia Standard Time:20190504T090000
SUMMARY:The Movement Gold Coast Homeless Outreach
DESCRIPTION:Our homeless outreach programme hosts a breakfast every Saturday\, 7.30am\, at Eileen Peters Park\, The Esplanade\, Surfers Paradise.&nbsp\;\n
LOCATION:Eileen Peters Park\, Eileen Peters Park\, The Esplanade\, Surfers Paradise QLD 4217\, QLD
RRULE:FREQ=WEEKLY;INTERVAL=1;BYDAY=SA
END:VEVENT
END:VCALENDAR
