BEGIN:VCALENDAR
VERSION:2.0
PRODID:-//My Community Diary//iCal Event//EN
CALSCALE:GREGORIAN
METHOD:PUBLISH
BEGIN:VEVENT
UID:e026b8a3-369f-4550-b767-af39749959f4
DTSTAMP:20260424T164511Z
DTSTART:20230414T150000Z
DTEND:20230414T200000Z
SUMMARY:Classic Conjuring: Magic At Its Close-Up Best
DESCRIPTION:Enjoy the best of close-up magic with Dr Taliesin\, master magician and member of the famous Magic Circle (UK)\, as he presents Classic Conjuring. Dubbed “absolutely brill” at its premiere at the 2018 Edinburgh Festival Fringe\, a sophisticated world of wonder awaits you and your friends\, as coins are plucked from thin air\, cards transform and the laws of physics suspended\, all within reach of your own hand.\n \nPresented amidst the old-world elegance of the Castlereagh Boutique Hotel in the heart of the Sydney CBD\, experience Dr Taliesin's stylish freeform and highly interactive classic\, contemporary and original close-up illusions\, which delighted Australian audiences in its 2019 and 2020 seasons. Elegant and timeless\, no two performances are the same\, with spellbinding magic sure to leave you amused and amazed.\n\nWith more than a decade of research behind his close-up magic show\, Classic Conjuring is the ideal way to mark a special occasion or simply to enjoy a night out with family and friends of all ages.		\n\nClassic Conjuring is a parlour show with strictly limited seating. Bookings essential.\n\nFor more information and to book tickets visit the Official Website.\n\nEntry Cost\nAll tickets $98  - Single Admission\nGroup $88  - Group (4+) price per person\nChild $68  - Youth under 18.  Only available with purchase of Single Admission (Adult).
LOCATION:\, 169 Castlereagh Street\, Sydney\, NSW 2000\, NSW\, 2000
RRULE:FREQ=DAILY;INTERVAL=1;UNTIL=20240121T000000Z
END:VEVENT
END:VCALENDAR
