BEGIN:VCALENDAR
VERSION:2.0
PRODID:-//My Community Diary//iCal Event//EN
CALSCALE:GREGORIAN
METHOD:PUBLISH
BEGIN:VEVENT
UID:02b6db8b-9016-4109-8f3e-bb37eccc8bfa
DTSTAMP:20260424T160627Z
DTSTART;TZID=E. Australia Standard Time:20190426T090000
DTEND;TZID=E. Australia Standard Time:20190426T113000
SUMMARY:Classic Movie Mornings and Morning Tea 
DESCRIPTION:We have movie mornings every 2nd Friday - starting at 9am with Morning Tea and followed by the viewing of a classic movie. See Twilight Times for details.&nbsp\;\n
LOCATION:Charters Towers Warringnu 6O And Better Program\, 133 Gill Street\, Charters Towers QLD 4820\, QLD\, 4820
RRULE:FREQ=WEEKLY;INTERVAL=2;BYDAY=FR
END:VEVENT
END:VCALENDAR
