BEGIN:VCALENDAR
VERSION:2.0
PRODID:-//My Community Diary//iCal Event//EN
CALSCALE:GREGORIAN
METHOD:PUBLISH
BEGIN:VEVENT
UID:a96d6ec1-00fc-4494-9c91-5557d91e5b7d
DTSTAMP:20260424T171546Z
DTSTART;TZID=E. Australia Standard Time:20190423T090000
DTEND;TZID=E. Australia Standard Time:20190423T100000
SUMMARY:Tai Chi 
DESCRIPTION:Tai Chi is held at Wheeler House every Tuesday Morning from 9am to 10am open to everyone. $2 donation.\n
LOCATION:Charters Towers Warringnu 6O And Better Program\, 133 Gill Street\, Charters Towers QLD 4820\, QLD\, 4820
RRULE:FREQ=WEEKLY;INTERVAL=1;BYDAY=TU
END:VEVENT
END:VCALENDAR
