BEGIN:VCALENDAR
VERSION:2.0
PRODID:-//My Community Diary//iCal Event//EN
CALSCALE:GREGORIAN
METHOD:PUBLISH
BEGIN:VEVENT
UID:6f02f2a1-9662-4aab-bee6-eec1a98f2cc0
DTSTAMP:20260421T222304Z
DTSTART;VALUE=DATE:20270124
DTEND;VALUE=DATE:20270125
SUMMARY:Manly Fresh Produce Markets
DESCRIPTION:Held at Sydney Road and Short Street Plaza every Sunday\, at the Manly Fresh Produce Market you'll find some of the best fresh produce and gourmet delights directly from farmers\, makers and food providores from across NSW. \n\nFrom paddock to plate\, foodies can indulge in organic fruit and vegetables\, quality cheeses\, olive oils\, fresh flowers and so much more.
LOCATION:\, Sydney Road\, Manly\, NSW 2095\, NSW\, 2095
RRULE:FREQ=DAILY;INTERVAL=1;UNTIL=20270126T000000Z
END:VEVENT
END:VCALENDAR
