BEGIN:VCALENDAR
VERSION:2.0
PRODID:-//My Community Diary//iCal Event//EN
CALSCALE:GREGORIAN
METHOD:PUBLISH
BEGIN:VEVENT
UID:2ea0830c-fc12-497e-bd79-783f4859e444
DTSTAMP:20260422T032040Z
DTSTART;VALUE=DATE:20261108
DTEND;VALUE=DATE:20261109
SUMMARY:Manly Fresh Produce Markets
DESCRIPTION:Held at Sydney Road and Short Street Plaza every Sunday\, at the Manly Fresh Produce Market you'll find some of the best fresh produce and gourmet delights directly from farmers\, makers and food providores from across NSW. \n\nFrom paddock to plate\, foodies can indulge in organic fruit and vegetables\, quality cheeses\, olive oils\, fresh flowers and so much more.
LOCATION:\, Sydney Road\, Manly\, NSW 2095\, NSW\, 2095
RRULE:FREQ=DAILY;INTERVAL=1;UNTIL=20261110T000000Z
END:VEVENT
END:VCALENDAR
