BEGIN:VCALENDAR
VERSION:2.0
PRODID:-//My Community Diary//iCal Event//EN
CALSCALE:GREGORIAN
METHOD:PUBLISH
BEGIN:VEVENT
UID:df27ac41-8529-4537-8dd9-36daf5c00001
DTSTAMP:20260424T164512Z
DTSTART:20240126T083000Z
DTEND:20240126T190000Z
SUMMARY:Charlton Lawn Tennis Club Annual Tournament
DESCRIPTION:The Charlton Lawn Tennis Club\, (Australia's oldest regional tennis club\; formed in 1881) holds an annual three day tennis tournament\, around the Australia Day holiday\, on 16 excellent grass courts. There are Open\, A\, B\, C and D grades in each event of mens and ladies singles\, mens and ladies doubles and mixed doubles. A changing partners doubles event is provided on the singles day for those who do not wish to play singles.\n\nMixed doubles is all played on one day (all five grades of finals played under lights)\, mens and ladies doubles on another day and singles and changing partner doubles\, on the other day\; all events are on a round robin format\, guaranteeing everyone a great weekend of tennis.\n\nThe club has excellent facilities\, an extensive shade area fully enclosed by a child-proof fence\, with all catering provided over the weekend. The tournament has a friendly family atmosphere and Charlton is located on the Calder Highway and on either side of the Avoca River.\n\nAccommodation is provided by a bed and breakfast\, two motels\, two hotels\, an en-suite caravan park and a caravan/tent park. There are a number of coffee/eatery options.\n\nCome and enjoy a relaxing weekend in the country.
LOCATION:\, Calder Highway\, Charlton\, VIC 3525\, VIC\, 3525
RRULE:FREQ=DAILY;INTERVAL=1;UNTIL=20240129T000000Z
END:VEVENT
END:VCALENDAR
