BEGIN:VCALENDAR
VERSION:2.0
PRODID:-//My Community Diary//iCal Event//EN
CALSCALE:GREGORIAN
METHOD:PUBLISH
BEGIN:VEVENT
UID:9572e236-25bd-4152-84c9-b4fbc4075fb0
DTSTAMP:20260421T222237Z
DTSTART;VALUE=DATE:20261222
DTEND;VALUE=DATE:20261223
SUMMARY:Modern Kintsugi Beginners Workshop
DESCRIPTION:In this transformative kintsugi class\, you will delve into the art of modern Japanese pottery restoration and learn how to mend broken ceramics using contemporary materials. You will explore the ethos of Kintsugi\, celebrating the history and flaws of each object.\n\nDiscover the beauty of mindful mending in a relaxing two-hour workshop. Experience the art of Kintsugi using epoxy glue\, modern materials that simplify the process.\n\nUnderstand the traditional Kintsugi technique and follow a step-by-step guide to create your own masterpiece.\n\nIn this world of disposables\, join us in embracing sustainability and creativity while learning a new skill. Restore cherished objects with gold joinery and take home a piece of art that embodies resilience and beauty.\n\nEntry Cost\nAll tickets $100 
LOCATION:\, 838 Collins Street shop 6\, Docklands\, VIC 3008\, VIC\, 3008
RRULE:FREQ=DAILY;INTERVAL=1;UNTIL=20261224T000000Z
END:VEVENT
END:VCALENDAR
