BEGIN:VCALENDAR
VERSION:2.0
PRODID:-//My Community Diary//iCal Event//EN
CALSCALE:GREGORIAN
METHOD:PUBLISH
BEGIN:VEVENT
UID:461cf917-508a-41ac-ac3c-dabe7e1140b4
DTSTAMP:20260424T154957Z
DTSTART;TZID=E. Australia Standard Time:20190429T160000
DTEND;TZID=E. Australia Standard Time:20190429T190000
SUMMARY:Community Dinner
DESCRIPTION:Meals are every Monday starting at 4 PM\, at Carole Park State Primary School Community Hall. Please check out our Facebook page in case of cancellations.\n
LOCATION:Community Hall\, Carole Park State School\, Waterford Road\, Carole Park QLD\, Australia\, QLD\, 4300
RRULE:FREQ=WEEKLY;INTERVAL=1;BYDAY=MO
END:VEVENT
END:VCALENDAR
