BEGIN:VCALENDAR
VERSION:2.0
PRODID:-//My Community Diary//iCal Event//EN
CALSCALE:GREGORIAN
METHOD:PUBLISH
BEGIN:VEVENT
UID:9ab90b20-885b-4aea-a489-ab8cea213c17
DTSTAMP:20260424T160521Z
DTSTART:20250814T000000Z
DTEND:20250814T235959Z
SUMMARY:Better in Blackall Festival
DESCRIPTION:Combining the best that Blackall has to offer. The outback comes to life across a four-day festival program packed with local food\, beverage and food tastings\, live music and entertainment\, art and cultural displays\, billy cart races\, BBQ competitions\, and a swag load of familiar faces.\n\nLife is better in Blackall.
LOCATION:\, Various Locations\, Blackall\, QLD 4472\, QLD\, 4472
RRULE:FREQ=DAILY;INTERVAL=1;UNTIL=20250818T000000Z
END:VEVENT
END:VCALENDAR
