BEGIN:VCALENDAR
VERSION:2.0
PRODID:-//My Community Diary//iCal Event//EN
CALSCALE:GREGORIAN
METHOD:PUBLISH
BEGIN:VEVENT
UID:0da167ab-d9a2-4513-94d7-8081523717e8
DTSTAMP:20260424T164548Z
DTSTART;VALUE=DATE:20190409
DTEND;VALUE=DATE:20190410
SUMMARY:Free Introductory Class
DESCRIPTION:Drop in to view the Proactive Self Defence&nbsp\;academy or call 9464 4546 to book a FREE introductory class.&nbsp\;\n
LOCATION:Proactive Self Defence\, 8/8-20 Brock Street\, Thomastown VIC 3074\, VIC\, 3074
RRULE:FREQ=DAILY;INTERVAL=1
END:VEVENT
END:VCALENDAR
