BEGIN:VCALENDAR
VERSION:2.0
PRODID:-//My Community Diary//iCal Event//EN
CALSCALE:GREGORIAN
METHOD:PUBLISH
BEGIN:VEVENT
UID:76e85fbc-f58d-4625-8d02-1bc06ec9455b
DTSTAMP:20260424T155902Z
DTSTART;TZID=E. Australia Standard Time:20190410T183000
DTEND;TZID=E. Australia Standard Time:20190410T213000
SUMMARY:Wednesday Night Raffles
DESCRIPTION:Wednesday Nights are loads of fun at Nerang Community Bowls Club with Raffles &amp\; Members Draws &amp\; delicious Chefs Specials in our Restaurant. The Raffle table has meat Trays\, bottle of Spirits &amp\; Gift Cards up for grabs and tickets are on sale from 6.45pm with the Raffle drawn at 7.30pm followed by the members Draw which Jackpots every week if not won :)\n
LOCATION:Nerang Community Bowls Club Inc\, 20 Cayuga Street Nerang QLD 4211\, QLD\, 4211
RRULE:FREQ=WEEKLY;INTERVAL=1;BYDAY=WE
END:VEVENT
END:VCALENDAR
