BEGIN:VCALENDAR
VERSION:2.0
PRODID:-//My Community Diary//iCal Event//EN
CALSCALE:GREGORIAN
METHOD:PUBLISH
BEGIN:VEVENT
UID:0f303730-93e8-4984-93f6-808a35a650d0
DTSTAMP:20260421T224253Z
DTSTART;TZID=AUS Eastern Standard Time:20250214T123000
DTEND;TZID=AUS Eastern Standard Time:20250214T153000
SUMMARY:Watercolour Art
DESCRIPTION:In this class you will learn different techniques using water colours. Everything will be supplied for your first class.\n\nWhat to bring:\n\n. Watercolours\n. Watercolour paper\n. Watercolour brushes\n. Palette\n. Waterproof board\n\nCheryl will work with you on a weekly basis to teach and share her knowledge and skills. You will discover different techniques &amp\; tricks of the trade using water colours.\n\nPlease contact us for further information via\nCheryl: MB 0433950079 OR Email: buzznchez@gmail.com\n\nBOOKINGS PREFERRED PLEASE\n\nCost $15 for BDA members\, $20 non-members\n\nPaint &amp\; Brushes supplied - bring a mug for a cuppa\n\nPay by direct deposit to:\n\nBathurst &amp\; District Artisans\n882-000 10016 3946\n
LOCATION:Bathurst & District Artisans - Perthville\, 20 Rockley Street\, Perthville NSW 2795\, NSW\, 2795
RRULE:FREQ=WEEKLY;INTERVAL=1;BYDAY=FR
END:VEVENT
END:VCALENDAR
