BEGIN:VCALENDAR
VERSION:2.0
PRODID:-//My Community Diary//iCal Event//EN
CALSCALE:GREGORIAN
METHOD:PUBLISH
BEGIN:VEVENT
UID:8b0154c0-b3ac-46e8-bcf0-6cfa6d2e4eb8
DTSTAMP:20260422T083624Z
DTSTART;VALUE=DATE:20261219
DTEND;VALUE=DATE:20261220
SUMMARY:Tilba Market
DESCRIPTION:When you visit the charming historic township of Central Tilba on a Saturday morning you can't go past the Tilba Market held in the Big Hall every week.\n\nThere is a variety of stalls selling a range of products including fresh fruit and vegetables\, free-range eggs\, local honey\, jams and preserves\, delicious baked treats\, plus much more.
LOCATION:\, 3A Bate Street\, Central Tilba\, NSW 2546\, NSW\, 2546
RRULE:FREQ=DAILY;INTERVAL=1;UNTIL=20261221T000000Z
END:VEVENT
END:VCALENDAR
