BEGIN:VCALENDAR
VERSION:2.0
PRODID:-//My Community Diary//iCal Event//EN
CALSCALE:GREGORIAN
METHOD:PUBLISH
BEGIN:VEVENT
UID:187d7cff-411d-44e6-8948-13ca84aae6f9
DTSTAMP:20260422T035718Z
DTSTART;VALUE=DATE:20260711
DTEND;VALUE=DATE:20260712
SUMMARY:Moruya Country Market
DESCRIPTION:The Moruya Country Market is a vibrant market held every Saturday morning on the banks of the stunning Moruya River. \n\nThere is something for everyone with stallholders selling everything from locally grown fresh produce\, delicious homemade preserves and baked treats\, handmade arts and crafts\, pre-loved books\, clothing\, bric-a-brac\, and refreshments.\n\nMake a day of it - wander the market\, pick up your fresh produce\, look for a bargain\, grab a freshly brewed coffee and a tasty treat\, and soak up the atmosphere.
LOCATION:\, Riverside Park Moruya\, Moruya\, NSW 2537\, NSW\, 2537
RRULE:FREQ=DAILY;INTERVAL=1;UNTIL=20260713T000000Z
END:VEVENT
END:VCALENDAR
