BEGIN:VCALENDAR
VERSION:2.0
PRODID:-//My Community Diary//iCal Event//EN
CALSCALE:GREGORIAN
METHOD:PUBLISH
BEGIN:VEVENT
UID:0ba9237a-013a-4504-a30b-7a50f99ee579
DTSTAMP:20260424T160514Z
DTSTART:20240823T000000Z
DTEND:20240823T235959Z
SUMMARY:Drovers' Camp Festival 2024
DESCRIPTION:The Drovers' Camp Festival is a unique outback flavoured festival.  Come to yarn with the old drovers and hear their amazing stories\, enjoy country music from some of Australia's best artists\, and enjoy good ol' outback hospitality.  \n\nA fun-filled weekend. Friday opens with a lively march pass including humorous floats\, musicians and horses\, culminating in a fun-filled\, lively night full of entertainment. The march past will be followed by the Ringers Challenge where the winner and runner up prize money is shared between team members and your chosen charity. To top this weekend off\, enjoy yarning with an old drover\, Bronco Branding\, music\, poetry\, camp oven cooking demonstrations. During the weekend wander through the Droving Heritage Centre and enjoy the top class photographic competition and displays.  Be entertained at the Drover's Campsite. Bush camping is available.\n\nThe Drover's Camp is one kilometre east of the township of Camooweal\, turn left at the cemetery road\, then left again. \n\nPlease book your accommodation early to avoid disappointment.\n\nEntry Cost\nAdult $15  - Limited Bush Camping is available for $20 per night for those fully self sufficient. Bookings must be made prior to festival. Children under 15 free.\nAdult $70  - Weekend pass is Saturday\, Sunday and includes concert Saturday night.\nAdult $15  - Saturday and Sunday $15 per day.\nSaturday and Concert $60.
LOCATION:\, LOT 15 Barkly Highway\, Camooweal\, QLD 4828\, QLD\, 4828
RRULE:FREQ=DAILY;INTERVAL=1;UNTIL=20250825T000000Z
END:VEVENT
END:VCALENDAR
