BEGIN:VCALENDAR
VERSION:2.0
PRODID:-//My Community Diary//iCal Event//EN
CALSCALE:GREGORIAN
METHOD:PUBLISH
BEGIN:VEVENT
UID:2c3ee7f3-c69a-4e9f-a103-3ba43e12ebe6
DTSTAMP:20260424T160510Z
DTSTART:20240419T000000Z
DTEND:20240419T235959Z
SUMMARY:Salt Festival 2024
DESCRIPTION:Salt Festival is a ten-day festival set on the Southern Eyre Peninsula that showcases the best of the region and a host of incredible acts from around Australia.\n\nOver the ten days\, Salt offers an incredible program of performances\, workshops\, feasts and talks. \n\nWhether you are a lover of seafood\, fine music\, or theatre or want to try to create something with one of our workshops\, there is something for everyone at Salt Festival.\n\nEnjoy the picturesque views of the Southern Eyre Peninsula by day and incredible acts by night. \n\nAt Salt Festival\, anything is possible.
LOCATION:\, 66 Tasman Terrace\, Port Lincoln\, SA 5606\, SA\, 5606
RRULE:FREQ=DAILY;INTERVAL=1;UNTIL=20240429T000000Z
END:VEVENT
END:VCALENDAR
