BEGIN:VCALENDAR
VERSION:2.0
PRODID:-//My Community Diary//iCal Event//EN
CALSCALE:GREGORIAN
METHOD:PUBLISH
BEGIN:VEVENT
UID:43197a50-f0cd-4e3c-872e-a62f919f4205
DTSTAMP:20260424T160512Z
DTSTART:20240616T000100Z
DTEND:20240616T230000Z
SUMMARY:Cairns Airport IRONMAN Cairns
DESCRIPTION:Cairns Airport IRONMAN Cairns is situated at the gateway to the Great Barrier Reef and boasts a stunning backdrop that will take your breath away.\n\nOver the last 11 years\, it has become known as the Race in Paradise\, boasting an experience that extends past the race day excitement. Hosted in Tropical North Queensland athletes and their support crew have easy access to the Great Barrier Reef\, the Daintree Rainforest and the tropical island surrounds. \n\nWith arguably the most spectacular bike course in the world\, competitors race up the Captain Cook Highway hugging the coastline from Cairns to Port Douglas. From reef to World Heritage-listed rainforest\, and a run along the stunning Cairns boardwalk\, the race finishes in the heart of the city. This race has become a ‘must-do’ on the IRONMAN circuit\, and there is every reason to believe the hype.\n\nThe 2024 Cairns Airport IRONMAN Cairns will have qualifying slots to the 2025 IRONMAN World Championship held in Kailua-Kona\, Hawaii and Nice\, France.
LOCATION:\, Palm Cove\, QLD 4879\, QLD\, 4879
END:VEVENT
END:VCALENDAR
