BEGIN:VCALENDAR
VERSION:2.0
PRODID:-//My Community Diary//iCal Event//EN
CALSCALE:GREGORIAN
METHOD:PUBLISH
BEGIN:VEVENT
UID:0f15305d-f37c-4e79-a069-b2202f21e480
DTSTAMP:20260423T140147Z
DTSTART;VALUE=DATE:20260920
DTEND;VALUE=DATE:20260921
SUMMARY:City-Bay Fun Run - Mile End
DESCRIPTION:City-Bay Fun Run Committee Inc. is a not-for-profit organisation. Their prime objective is to raise funds to support Athletics in South Australia and their efforts therefore assist athletes and clubs within the athletics community in South Australia. Local Service Clubs\, as well as the Athletic community are supported with a donation based on the amount of volunteer help they provide both on race day and for pre-race administration.\n\nThey have established a trust fund to manage the many requests from the athletic community to support their endeavours. They have previously sponsored promising athletes to go across to the Olympics and purchased new equipment for clubs.\n\nA growing number of charities and organisations are using our fun runs as a catalyst for their own fundraising activities.\n\nAside from the financial benefits of the events\, many fitness clubs\, rehabilitation organisations\, businesses and individuals use the events to achieve personal goals.
LOCATION:\, Majorie Jackson-Nelson Drive\, Mile End\, SA 5031\, SA\, 5031
RRULE:FREQ=DAILY;INTERVAL=1;UNTIL=20260922T000000Z
END:VEVENT
END:VCALENDAR
