BEGIN:VCALENDAR
VERSION:2.0
PRODID:-//My Community Diary//iCal Event//EN
CALSCALE:GREGORIAN
METHOD:PUBLISH
BEGIN:VEVENT
UID:1b2bd620-9551-474e-8b31-a8acb3a7232a
DTSTAMP:20260424T160510Z
DTSTART:20240622T080000Z
DTEND:20240622T170000Z
SUMMARY:Birdsville Horse and Motorbike Gymkhana
DESCRIPTION:Bring the whole family to the Bronco Branding Yards in Birdsville to watch skilled bushmen and women demonstrate their craft.\n\nGet involved in the horsemanship skills on Saturday with barrel\, flag and herding races\, or simply kick back ringside and enjoy the dusty action. Horsepower is then replaced by dirt bikes and quads on Sunday\, and the same events are re-enacted on wheels.\n\nThere is plenty of onsite catering\, loads of live music and evening entertainment.
LOCATION:\, Bronco Branding Yards\, Birdsville\, QLD 4482\, QLD\, 4482
RRULE:FREQ=DAILY;INTERVAL=1;UNTIL=20240624T000000Z
END:VEVENT
END:VCALENDAR
