BEGIN:VCALENDAR
VERSION:2.0
PRODID:-//My Community Diary//iCal Event//EN
CALSCALE:GREGORIAN
METHOD:PUBLISH
BEGIN:VEVENT
UID:dfc37853-f103-4522-bc56-f991b39c5f2b
DTSTAMP:20260424T160521Z
DTSTART;TZID=AUS Eastern Standard Time:20231114T140000
DTEND;TZID=AUS Eastern Standard Time:20231114T150000
SUMMARY:Woolgoolga Red Cross Branch Meeting -  November 2023
DESCRIPTION:Woolgoolga Red Cross Branch Meetings: October Meeting\n\nEveryone is Welcome to Attend Monthly Meetings.\n\nDate:&nbsp\; 14 th November 2023\n\nVenue: CWA ROOMS 21 Beach Street Woolgoolga NSW 2456\n\nTime: &nbsp\;Starts at NEW TIME 2 pm.\n\nAfterwards Afternoon tea is provided.&nbsp\;\n\nCall: Hon Secretary Annette Dodsworth call 0409 600 056\n
LOCATION:CWA Rooms \, 21 Beach Street\, Woolgoolga NSW 2456\, NSW\, 2456
RRULE:FREQ=MONTHLY;INTERVAL=1;BYDAY=3MO
END:VEVENT
END:VCALENDAR
